Workbook

Sheet ※利用方法※
A2: 本シートの利用方法について
A4: （１）様式第1号の3
A5: ○「様式第1号の3」のシートは、交付申請時及び実績報告時に提出する資料の一つです。
A6: ○水色の着色があるセルは自動計算や自動判定されるため修正することはできません。
A7: ○申請者が入力する箇所（着色のないセル）は次の項目です。
B8: ・「名前」…賃上げ対象者の名前をフルネームで記入
B9: ・「事業所名」…賃上げ対象者が所属する事業所の名称（会社名、支店名、屋号など）を記入
B10: ・「正・非別」…正規労働者か非正規労働者かを選択
B11: ・「引上前賃金」…賃上げ前の時間当たりの賃金額を記入
B12: ・「引上後賃金」…賃上げ後の時間当たりの賃金額を記入
A13: ○上記を入力すると自動的に支給積算額（Ⅰ）、支給上限額（Ⅱ）、交付申請額（Ⅲ）が計算されます。
A14: 計算された数値を、交付申請書（実績報告時は実績報告書）に記載してください。
A24: （２）対象労働者チェック
A25: ○「対象労働者チェック」のシートは、非正規労働者が申請対象者か実績報告時に確認するシートです。
A26: ○実績報告時に「様式第1号の3」と併せて提出してください。
A27: ○水色の着色があるセルは自動計算や自動判定されるため修正することはできません。
A28: ○申請者が入力する箇所（着色のないセル）は賃上げ対象者の「6ヶ月勤務時間合計」です。
A29: ※賃上げによる6ヶ月の企業負担額が支援単価以上の場合が支給対象となります。
A30: ○「判定」が×の者は対象外となりますので、「様式第1号の3」から該当者を除いてください。
A31: ※提出時には、全ての賃上げ対象者の「判定」が○になっていることを確認してください。

Sheet 様式第1号の3
A1: 様式第１号の３ （第４条、第１０条関係）
A3: 賃金引上げ対象労働者一覧表兼支給額計算シート
I5: 交付申請額 （Ⅲ） | J5: =MIN(I8,J8) -> 0
I7: 支給上限額 （Ⅱ） | J7: 支給積算額 （Ⅰ）
A8: 賃上げを行う従業員の数 | I8: {=IF(SUM(G11:J11)=0,0,_xlfn.XLOOKUP(LOOKUP(2,1/(G11:J11=MAX(G11:J11)),G10:J10),区分表!A:A,区分表!E:E))} -> 0 | J8: =_xlfn.AGGREGATE(9,6,J13:J53) -> 0
B9: 正規雇用者 | C9: =COUNTIF(C14:C53,"正規") -> 0 | D9: 人
B10: 非正規雇用者 | C10: =COUNTIF(C14:C53,"非正規") -> 0 | D10: 人 | F10: 区分 | G10: A | H10: B | I10: C | J10: D
F11: 人数 | G11: =COUNTIF($I$14:$I$53,"A") -> 0 | H11: =COUNTIF($I$14:$I$53,"B") -> 0 | I11: =COUNTIF($I$14:$I$53,"C") -> 0 | J11: =COUNTIF($I$14:$I$53,"D") -> 0
A12: 賃上げ対象者一覧
A13: 名前 | B13: 事業所名 | C13: 正・非別 | D13: 引上前賃金 | E13: ⇒ | F13: 引上後賃金 | G13: 1,113円以上 | H13: 引上額 | I13: 区分 | J13: 支援単価
E14: ⇒ | G14: =IF(F14>=1113,"○","×") -> × | H14: =F14-D14 -> 0 | I14: {=_xlfn.IFS(H14>=100,"D",H14>=75,"C",H14>=65,"B",H14>=50,"A")} -> #N/A | J14: =INDEX(区分表!$C$4:$D$7,MATCH(I14,区分表!$A$4:$A$7,0),MATCH(C14,{"正規","非正規"},0)) -> #N/A
E15: ⇒ | G15: =IF(F15>=1113,"○","×") -> × | H15: =F15-D15 -> 0 | I15: {=_xlfn.IFS(H15>=100,"D",H15>=75,"C",H15>=65,"B",H15>=50,"A")} -> #N/A | J15: =INDEX(区分表!$C$4:$D$7,MATCH(I15,区分表!$A$4:$A$7,0),MATCH(C15,{"正規","非正規"},0)) -> #N/A
E16: ⇒ | G16: =IF(F16>=1113,"○","×") -> × | H16: =F16-D16 -> 0 | I16: {=_xlfn.IFS(H16>=100,"D",H16>=75,"C",H16>=65,"B",H16>=50,"A")} -> #N/A | J16: =INDEX(区分表!$C$4:$D$7,MATCH(I16,区分表!$A$4:$A$7,0),MATCH(C16,{"正規","非正規"},0)) -> #N/A
E17: ⇒ | G17: =IF(F17>=1113,"○","×") -> × | H17: =F17-D17 -> 0 | I17: {=_xlfn.IFS(H17>=100,"D",H17>=75,"C",H17>=65,"B",H17>=50,"A")} -> #N/A | J17: =INDEX(区分表!$C$4:$D$7,MATCH(I17,区分表!$A$4:$A$7,0),MATCH(C17,{"正規","非正規"},0)) -> #N/A
E18: ⇒ | G18: =IF(F18>=1113,"○","×") -> × | H18: =F18-D18 -> 0 | I18: {=_xlfn.IFS(H18>=100,"D",H18>=75,"C",H18>=65,"B",H18>=50,"A")} -> #N/A | J18: =INDEX(区分表!$C$4:$D$7,MATCH(I18,区分表!$A$4:$A$7,0),MATCH(C18,{"正規","非正規"},0)) -> #N/A
E19: ⇒ | G19: =IF(F19>=1113,"○","×") -> × | H19: =F19-D19 -> 0 | I19: {=_xlfn.IFS(H19>=100,"D",H19>=75,"C",H19>=65,"B",H19>=50,"A")} -> #N/A | J19: =INDEX(区分表!$C$4:$D$7,MATCH(I19,区分表!$A$4:$A$7,0),MATCH(C19,{"正規","非正規"},0)) -> #N/A
E20: ⇒ | G20: =IF(F20>=1113,"○","×") -> × | H20: =F20-D20 -> 0 | I20: {=_xlfn.IFS(H20>=100,"D",H20>=75,"C",H20>=65,"B",H20>=50,"A")} -> #N/A | J20: =INDEX(区分表!$C$4:$D$7,MATCH(I20,区分表!$A$4:$A$7,0),MATCH(C20,{"正規","非正規"},0)) -> #N/A
E21: ⇒ | G21: =IF(F21>=1113,"○","×") -> × | H21: =F21-D21 -> 0 | I21: {=_xlfn.IFS(H21>=100,"D",H21>=75,"C",H21>=65,"B",H21>=50,"A")} -> #N/A | J21: =INDEX(区分表!$C$4:$D$7,MATCH(I21,区分表!$A$4:$A$7,0),MATCH(C21,{"正規","非正規"},0)) -> #N/A
E22: ⇒ | G22: =IF(F22>=1113,"○","×") -> × | H22: =F22-D22 -> 0 | I22: {=_xlfn.IFS(H22>=100,"D",H22>=75,"C",H22>=65,"B",H22>=50,"A")} -> #N/A | J22: =INDEX(区分表!$C$4:$D$7,MATCH(I22,区分表!$A$4:$A$7,0),MATCH(C22,{"正規","非正規"},0)) -> #N/A
E23: ⇒ | G23: =IF(F23>=1113,"○","×") -> × | H23: =F23-D23 -> 0 | I23: {=_xlfn.IFS(H23>=100,"D",H23>=75,"C",H23>=65,"B",H23>=50,"A")} -> #N/A | J23: =INDEX(区分表!$C$4:$D$7,MATCH(I23,区分表!$A$4:$A$7,0),MATCH(C23,{"正規","非正規"},0)) -> #N/A
E24: ⇒ | G24: =IF(F24>=1113,"○","×") -> × | H24: =F24-D24 -> 0 | I24: {=_xlfn.IFS(H24>=100,"D",H24>=75,"C",H24>=65,"B",H24>=50,"A")} -> #N/A | J24: =INDEX(区分表!$C$4:$D$7,MATCH(I24,区分表!$A$4:$A$7,0),MATCH(C24,{"正規","非正規"},0)) -> #N/A
E25: ⇒ | G25: =IF(F25>=1113,"○","×") -> × | H25: =F25-D25 -> 0 | I25: {=_xlfn.IFS(H25>=100,"D",H25>=75,"C",H25>=65,"B",H25>=50,"A")} -> #N/A | J25: =INDEX(区分表!$C$4:$D$7,MATCH(I25,区分表!$A$4:$A$7,0),MATCH(C25,{"正規","非正規"},0)) -> #N/A
... E53: ⇒ | G53: =IF(F53>=1113,"○","×") -> × | H53: =F53-D53 -> 0 | I53: {=_xlfn.IFS(H53>=100,"D",H53>=75,"C",H53>=65,"B",H53>=50,"A")} -> #N/A | J53: =INDEX(区分表!$C$4:$D$7,MATCH(I53,区分表!$A$4:$A$7,0),MATCH(C53,{"正規","非正規"},0)) -> #N/A

Sheet 対象労働者チェック
A1: ※実績報告時に対象者かどうか確認し、様式第1号の3とともに提出ください。
A3: 非正規労働者の対象者確認シート
A5: 賃上げ対象者一覧
A6: 名前 | B6: 事業所名 | C6: 正・非別 | D6: 賃金 引上げ額 | E6: 6ヶ月 勤務時間 合計 | F6: 6ヶ月 企業負担 額 | G6: 支援単価 | H6: 判定
A7: =様式第1号の3!A14 -> 0 | B7: =様式第1号の3!B14 -> 0 | C7: =様式第1号の3!C14 -> 0 | D7: =様式第1号の3!H14 -> 0 | F7: =D7*E7 -> 0 | G7: =様式第1号の3!J14 -> #N/A | H7: =IF(C7="非正規",IF(F7>=G7,"○","×"),"○") -> ○
A8: =様式第1号の3!A15 -> 0 | B8: =様式第1号の3!B15 -> 0 | C8: =様式第1号の3!C15 -> 0 | D8: =様式第1号の3!H15 -> 0 | F8: =D8*E8 -> 0 | G8: =様式第1号の3!J15 -> #N/A | H8: =IF(C8="非正規",IF(F8>=G8,"○","×"),"○") -> ○
A9: =様式第1号の3!A16 -> 0 | B9: =様式第1号の3!B16 -> 0 | C9: =様式第1号の3!C16 -> 0 | D9: =様式第1号の3!H16 -> 0 | F9: =D9*E9 -> 0 | G9: =様式第1号の3!J16 -> #N/A | H9: =IF(C9="非正規",IF(F9>=G9,"○","×"),"○") -> ○
A10: =様式第1号の3!A17 -> 0 | B10: =様式第1号の3!B17 -> 0 | C10: =様式第1号の3!C17 -> 0 | D10: =様式第1号の3!H17 -> 0 | F10: =D10*E10 -> 0 | G10: =様式第1号の3!J17 -> #N/A | H10: =IF(C10="非正規",IF(F10>=G10,"○","×"),"○") -> ○
A11: =様式第1号の3!A18 -> 0 | B11: =様式第1号の3!B18 -> 0 | C11: =様式第1号の3!C18 -> 0 | D11: =様式第1号の3!H18 -> 0 | F11: =D11*E11 -> 0 | G11: =様式第1号の3!J18 -> #N/A | H11: =IF(C11="非正規",IF(F11>=G11,"○","×"),"○") -> ○
A12: =様式第1号の3!A19 -> 0 | B12: =様式第1号の3!B19 -> 0 | C12: =様式第1号の3!C19 -> 0 | D12: =様式第1号の3!H19 -> 0 | F12: =D12*E12 -> 0 | G12: =様式第1号の3!J19 -> #N/A | H12: =IF(C12="非正規",IF(F12>=G12,"○","×"),"○") -> ○
A13: =様式第1号の3!A20 -> 0 | B13: =様式第1号の3!B20 -> 0 | C13: =様式第1号の3!C20 -> 0 | D13: =様式第1号の3!H20 -> 0 | F13: =D13*E13 -> 0 | G13: =様式第1号の3!J20 -> #N/A | H13: =IF(C13="非正規",IF(F13>=G13,"○","×"),"○") -> ○
A14: =様式第1号の3!A21 -> 0 | B14: =様式第1号の3!B21 -> 0 | C14: =様式第1号の3!C21 -> 0 | D14: =様式第1号の3!H21 -> 0 | F14: =D14*E14 -> 0 | G14: =様式第1号の3!J21 -> #N/A | H14: =IF(C14="非正規",IF(F14>=G14,"○","×"),"○") -> ○
A15: =様式第1号の3!A22 -> 0 | B15: =様式第1号の3!B22 -> 0 | C15: =様式第1号の3!C22 -> 0 | D15: =様式第1号の3!H22 -> 0 | F15: =D15*E15 -> 0 | G15: =様式第1号の3!J22 -> #N/A | H15: =IF(C15="非正規",IF(F15>=G15,"○","×"),"○") -> ○
A16: =様式第1号の3!A23 -> 0 | B16: =様式第1号の3!B23 -> 0 | C16: =様式第1号の3!C23 -> 0 | D16: =様式第1号の3!H23 -> 0 | F16: =D16*E16 -> 0 | G16: =様式第1号の3!J23 -> #N/A | H16: =IF(C16="非正規",IF(F16>=G16,"○","×"),"○") -> ○
A17: =様式第1号の3!A24 -> 0 | B17: =様式第1号の3!B24 -> 0 | C17: =様式第1号の3!C24 -> 0 | D17: =様式第1号の3!H24 -> 0 | F17: =D17*E17 -> 0 | G17: =様式第1号の3!J24 -> #N/A | H17: =IF(C17="非正規",IF(F17>=G17,"○","×"),"○") -> ○
A18: =様式第1号の3!A25 -> 0 | B18: =様式第1号の3!B25 -> 0 | C18: =様式第1号の3!C25 -> 0 | D18: =様式第1号の3!H25 -> 0 | F18: =D18*E18 -> 0 | G18: =様式第1号の3!J25 -> #N/A | H18: =IF(C18="非正規",IF(F18>=G18,"○","×"),"○") -> ○
... A46: =様式第1号の3!A53 -> 0 | B46: =様式第1号の3!B53 -> 0 | C46: =様式第1号の3!C53 -> 0 | D46: =様式第1号の3!H53 -> 0 | F46: =D46*E46 -> 0 | G46: =様式第1号の3!J53 -> #N/A | H46: =IF(C46="非正規",IF(F46>=G46,"○","×"),"○") -> ○

Sheet 区分表
A1: 引き上げ区分表
A3: 区分 | B3: 引き上げ幅 | C3: 正規 | D3: 非正規 | E3: 上限額
A4: A | B4: 50～64円 | C4: 40000 | D4: 20000 | E4: 400000
A5: B | B5: 65～74円 | C5: 50000 | D5: 30000 | E5: 500000
A6: C | B6: 75～99円 | C6: 60000 | D6: 40000 | E6: 800000
A7: D | B7: 100円～ | C7: 70000 | D7: 50000 | E7: 1000000
